BEGIN:VCALENDAR
VERSION:2.0
PRODID:-//wp-events-plugin.com//6.6.3//EN
TZID:America/Toronto
X-WR-TIMEZONE:America/Toronto
BEGIN:VEVENT
UID:175@liunalocal837.com
DTSTART;TZID=America/Toronto:20250122T193000
DTEND;TZID=America/Toronto:20250122T203000
DTSTAMP:20250120T161721Z
URL:https://liunalocal837.com/events/monthly-membership-meeting/
SUMMARY:Monthly Membership Meeting
DESCRIPTION:\nJANUARY MEMBERSHIP MEETING\n\n\n170 Jackson St. E. Hamilton O
 N\n\n\n7:30PM\n
CATEGORIES:Meetings,Monthly Meeting
LOCATION:Hamilton Main Office\, 170 Jackson St E\, Hamilton\, Ontario\, L8N
  1L4
X-APPLE-STRUCTURED-LOCATION;VALUE=URI;X-ADDRESS=170 Jackson St E\, Hamilton
 \, Ontario\, L8N 1L4\, Canada;X-APPLE-RADIUS=100;X-TITLE=Hamilton Main Off
 ice:geo:0,0
END:VEVENT
BEGIN:VTIMEZONE
TZID:America/Toronto
X-LIC-LOCATION:America/Toronto
BEGIN:STANDARD
DTSTART:20241103T010000
TZOFFSETFROM:-0400
TZOFFSETTO:-0500
TZNAME:EST
END:STANDARD
END:VTIMEZONE
END:VCALENDAR