BEGIN:VCALENDAR
VERSION:2.0
PRODID:-//wp-events-plugin.com//6.6.3//EN
TZID:America/Toronto
X-WR-TIMEZONE:America/Toronto
BEGIN:VEVENT
UID:1028@liunalocal837.com
DTSTART;TZID=America/Toronto:20260225T193000
DTEND;TZID=America/Toronto:20260225T203000
DTSTAMP:20260203T201055Z
URL:https://liunalocal837.com/events/february-membership-meeting/
SUMMARY:February Membership Meeting
DESCRIPTION:February Membership Meeting\n\nWednesday February 25th 2026\n\n
 7:30pm\n\nHamilton Office | 170 Jackson St. E
CATEGORIES:Meetings,Monthly Meeting
LOCATION:Hamilton Main Office\, 170 Jackson St E\, Hamilton\, Ontario\, L8N
  1L4
X-APPLE-STRUCTURED-LOCATION;VALUE=URI;X-ADDRESS=170 Jackson St E\, Hamilton
 \, Ontario\, L8N 1L4\, Canada;X-APPLE-RADIUS=100;X-TITLE=Hamilton Main Off
 ice:geo:0,0
END:VEVENT
BEGIN:VTIMEZONE
TZID:America/Toronto
X-LIC-LOCATION:America/Toronto
BEGIN:STANDARD
DTSTART:20251102T010000
TZOFFSETFROM:-0400
TZOFFSETTO:-0500
TZNAME:EST
END:STANDARD
END:VTIMEZONE
END:VCALENDAR