BEGIN:VCALENDAR
VERSION:2.0
PRODID:-//wp-events-plugin.com//6.6.3//EN
TZID:America/Toronto
X-WR-TIMEZONE:America/Toronto
BEGIN:VEVENT
UID:179@liunalocal837.com
DTSTART;TZID=America/Toronto:20250127T090000
DTEND;TZID=America/Toronto:20250129T163000
DTSTAMP:20250127T120807Z
URL:https://liunalocal837.com/events/confined-space-rescue/
SUMMARY:Confined Space Rescue
DESCRIPTION:Confined space rescue training is a specialized form of trainin
 g designed to prepare workers and rescue personnel to safely and effective
 ly respond to emergency situations in confined spaces. Confined spaces are
  areas that are not designed for continuous occupancy and have limited mea
 ns of entry or exit. Examples of confined spaces include tanks\, silos\, p
 ipes\, manholes\, tunnels\, and sewers.\nThe class includes Confined Space
  Rescue\, Gas Detection\, Respiratory Equipment and Fit Tests
CATEGORIES:Member Training Course,Training
LOCATION:E.H. Mancinelli Learning and Education Centre\, 260 Hunter Road\, 
 Grimsby\, Ontario\, L3M 0H5
X-APPLE-STRUCTURED-LOCATION;VALUE=URI;X-ADDRESS=260 Hunter Road\, Grimsby\,
  Ontario\, L3M 0H5\, Canada;X-APPLE-RADIUS=100;X-TITLE=E.H. Mancinelli Lea
 rning and Education Centre:geo:0,0
END:VEVENT
BEGIN:VTIMEZONE
TZID:America/Toronto
X-LIC-LOCATION:America/Toronto
BEGIN:STANDARD
DTSTART:20241103T010000
TZOFFSETFROM:-0400
TZOFFSETTO:-0500
TZNAME:EST
END:STANDARD
END:VTIMEZONE
END:VCALENDAR