BEGIN:VCALENDAR
VERSION:2.0
PRODID:-//wp-events-plugin.com//6.6.3//EN
TZID:America/Toronto
X-WR-TIMEZONE:America/Toronto
BEGIN:VEVENT
UID:842@liunalocal837.com
DTSTART;TZID=America/Toronto:20260128T090000
DTEND;TZID=America/Toronto:20260128T160000
DTSTAMP:20251211T141038Z
URL:https://liunalocal837.com/events/chainsaw-operator-19/
SUMMARY:Chainsaw Operator
DESCRIPTION:The chainsaw operator program consists of four modules (six hou
 rs). It is designed to inform operators of the features and parts of the c
 hainsaw\, how to maintain the chainsaw\, the hazards of chainsaw operation
  and relevant legislation. The participants will be asked to start up the 
 chainsaw and demonstrate how to properly hold it.
CATEGORIES:Member Training Course,Training
LOCATION:Cambridge Training Centre\, 330 Industrial Road\, Cambridge\, Onta
 rio\, N3H 4R7
X-APPLE-STRUCTURED-LOCATION;VALUE=URI;X-ADDRESS=330 Industrial Road\, Cambr
 idge\, Ontario\, N3H 4R7\, Canada;X-APPLE-RADIUS=100;X-TITLE=Cambridge Tra
 ining Centre:geo:0,0
END:VEVENT
BEGIN:VTIMEZONE
TZID:America/Toronto
X-LIC-LOCATION:America/Toronto
BEGIN:STANDARD
DTSTART:20251102T010000
TZOFFSETFROM:-0400
TZOFFSETTO:-0500
TZNAME:EST
END:STANDARD
END:VTIMEZONE
END:VCALENDAR